BEGIN:VCALENDAR
VERSION:2.0
PRODID:-//Forsyth Creek Week - ECPv6.15.20//NONSGML v1.0//EN
CALSCALE:GREGORIAN
METHOD:PUBLISH
X-ORIGINAL-URL:https://forsythcreekweek.org
X-WR-CALDESC:Events for Forsyth Creek Week
REFRESH-INTERVAL;VALUE=DURATION:PT1H
X-Robots-Tag:noindex
X-PUBLISHED-TTL:PT1H
BEGIN:VTIMEZONE
TZID:America/New_York
BEGIN:DAYLIGHT
TZOFFSETFROM:-0500
TZOFFSETTO:-0400
TZNAME:EDT
DTSTART:20250309T070000
END:DAYLIGHT
BEGIN:STANDARD
TZOFFSETFROM:-0400
TZOFFSETTO:-0500
TZNAME:EST
DTSTART:20251102T060000
END:STANDARD
BEGIN:DAYLIGHT
TZOFFSETFROM:-0500
TZOFFSETTO:-0400
TZNAME:EDT
DTSTART:20260308T070000
END:DAYLIGHT
BEGIN:STANDARD
TZOFFSETFROM:-0400
TZOFFSETTO:-0500
TZNAME:EST
DTSTART:20261101T060000
END:STANDARD
BEGIN:DAYLIGHT
TZOFFSETFROM:-0500
TZOFFSETTO:-0400
TZNAME:EDT
DTSTART:20270314T070000
END:DAYLIGHT
BEGIN:STANDARD
TZOFFSETFROM:-0400
TZOFFSETTO:-0500
TZNAME:EST
DTSTART:20271107T060000
END:STANDARD
END:VTIMEZONE
BEGIN:VEVENT
DTSTART;TZID=America/New_York:20260301T000000
DTEND;TZID=America/New_York:20260331T235959
DTSTAMP:20260423T172904
CREATED:20251216T211111Z
LAST-MODIFIED:20260106T163204Z
UID:10000066-1772323200-1775001599@forsythcreekweek.org
SUMMARY:Native Piedmont Plants Exhibit and Seed Giveaway
DESCRIPTION:Celebrate Creek Week with Keep Winston-Salem Beautiful and the North Carolina Collection. Visit our month-long exhibit highlighting native plants along with a seed giveaway to help you get started with your own native plant garden. Exhibit is open Monday – Thursday from 9 a.m. to 8 p.m.\, Friday from 9 a.m. to 6 p.m. and Saturday from 10 a.m. to 5 p.m. Stop by the North Carolina Collection on the second floor of the Central Library and check it out! 
URL:https://forsythcreekweek.org/event/native-piedmont-plants-exhibit-and-seed-giveaway/
LOCATION:Central Library\, 660 W. 5th St.\, Winston-Salem\, NC\, 27101
CATEGORIES:Fix the Planet,Fun to Do
ATTACH;FMTTYPE=image/jpeg:https://forsythcreekweek.org/wp-content/uploads/2025/12/What-does-native-mean-1-scaled.jpg
ORGANIZER;CN="Keep Winston-Salem Beautiful":MAILTO:andysz@cityofws.org
END:VEVENT
BEGIN:VEVENT
DTSTART;TZID=America/New_York:20260321T000000
DTEND;TZID=America/New_York:20260328T235959
DTSTAMP:20260423T172904
CREATED:20251216T210958Z
LAST-MODIFIED:20260226T141756Z
UID:10000069-1774051200-1774742399@forsythcreekweek.org
SUMMARY:Creek Week Bingo
DESCRIPTION:Want to learn how to help local waterways? Pick up a Forsyth Creek Week bingo card\, complete a set of water-friendly tasks\, and return the completed card for a small prize by Saturday\, March 28. 
URL:https://forsythcreekweek.org/event/creek-week-bingo/
LOCATION:Clemmons Branch Library\, 6365 James St.\, Clemmons\, NC\, 27012
CATEGORIES:Fun to Do
END:VEVENT
BEGIN:VEVENT
DTSTART;TZID=America/New_York:20260321T000000
DTEND;TZID=America/New_York:20260329T235959
DTSTAMP:20260423T172904
CREATED:20260309T172602Z
LAST-MODIFIED:20260316T154820Z
UID:10000121-1774051200-1774828799@forsythcreekweek.org
SUMMARY:KPD Pill Drop
DESCRIPTION:Residents can dispose of expired\, unwanted\, or unused prescription drugs and over the counter medications – NO QUESTIONS ASKED – during Operation Medicine Drop at Kernersville Police Department – 134 East Mountain St. This event will be running throughout Creek Week. We will not be equipped to dispose of sharps/needles at this event.
URL:https://forsythcreekweek.org/event/kpd-pill-drop/
LOCATION:Kernersville Police Department\, 134 East Mountain St\, Kernersville\, 27284
CATEGORIES:Fix the Planet
ATTACH;FMTTYPE=image/jpeg:https://forsythcreekweek.org/wp-content/uploads/2026/03/Pill-Drop-Graphic-1.jpg
ORGANIZER;CN="Town of Kernersville Stormwater":MAILTO:whartup@toknc.com
END:VEVENT
BEGIN:VEVENT
DTSTART;TZID=America/New_York:20260321T000000
DTEND;TZID=America/New_York:20260329T235959
DTSTAMP:20260423T172904
CREATED:20260311T165607Z
LAST-MODIFIED:20260311T165622Z
UID:10000123-1774051200-1774828799@forsythcreekweek.org
SUMMARY:Rain Barrel Sale - Winston-Salem
DESCRIPTION:Rain barrels help to slow stormwater runoff\, encourage infiltration\, and conserve water supply resources.  You can buy rain barrels at many local home improvement stores in Winston-Salem\, or at a special discounted price for Winston-Salem residents online through Epoch Rain Barrels. \n  \nIf ordering through Epoch Rain Barrels\, local pickup is required. Pickup events are on the 2nd and 4th Wednesday of each month from 4pm-6pm at Jamison Park. Order online through Epoch Rain Barrels at the link here. \n  \nYou can also build one yourself at home! Watch the video here for instructions. \n\n\n\n\n\n\n\n\n\n 
URL:https://forsythcreekweek.org/event/rain-barrels-ws/
LOCATION:TBD
CATEGORIES:Fix the Planet
ATTACH;FMTTYPE=image/png:https://forsythcreekweek.org/wp-content/uploads/2026/03/Epoch-Rain-Barrel-Picture.png
ORGANIZER;CN="City of Winston-Salem Stormwater Division":MAILTO:kaitlinc@cityofws.org
END:VEVENT
BEGIN:VEVENT
DTSTART;TZID=America/New_York:20260323T000000
DTEND;TZID=America/New_York:20260327T235959
DTSTAMP:20260423T172904
CREATED:20260306T190611Z
LAST-MODIFIED:20260306T190611Z
UID:10000118-1774224000-1774655999@forsythcreekweek.org
SUMMARY:Medicine Drop Winston-Salem
DESCRIPTION:The Pill Collection Drop Box is a program for citizens as a convenient and safe way to dispose of unneeded or unwanted pills from their homes. Proper and safe disposal of pills serves to reduce the possibility of accidental or criminal misuse of these drugs as well as providing a safe alternative to disposing of medications in landfills and/or sewer systems. Keeping medicine out of our landfills and sewers keeps our environment and drinking water safer. \n  \nRestrictions: This program is only for pills. No other form of drugs will be accepted. (No liquids\, gels\, sharps\, syringes or aerosol products.) This program is only for households. Pills from businesses\, health care facilities\, long-term care facilities\, pharmaceutical representatives\, pharmacies\, doctor offices and veterinary clinics will not be accepted. \n  \nLocations \n\nPublic Safety Center (725 N. Cherry St.) 8am-5pm\nDistrict 1 (7836 N Point Blvd.) 8am-4pm\nDistrict 2 (1539 Waughtown St.) 8am-4pm\nDistrict 3 (2393 Winterhaven Ln.) 8am-4pm\n\nFor each location\, check in with the officer at the front desk and ask for an officer to help assist you with the drop box. \n\n\n\n\n\n\n\n\n\n 
URL:https://forsythcreekweek.org/event/medicine-drop-ws/
LOCATION:Various – see event description
CATEGORIES:Fix the Planet
ATTACH;FMTTYPE=image/jpeg:https://forsythcreekweek.org/wp-content/uploads/2026/03/AdobeStock_104356438-scaled.jpeg
ORGANIZER;CN="City of Winston-Salem Stormwater Division":MAILTO:kaitlinc@cityofws.org
END:VEVENT
BEGIN:VEVENT
DTSTART;TZID=America/New_York:20260323T100000
DTEND;TZID=America/New_York:20260323T130000
DTSTAMP:20260423T172904
CREATED:20251230T192334Z
LAST-MODIFIED:20251230T193724Z
UID:10000082-1774260000-1774270800@forsythcreekweek.org
SUMMARY:Operation Medicine Drop
DESCRIPTION:Residents can dispose of expired\, unwanted\, or unused prescription drugs and over the counter medications – NO QUESTIONS ASKED – during Operation Medicine Drop at Clemmons Public Works – 3800 Dillon Industrial Drive – with help from the Forsyth County Sheriff’s Office and Inmar Intelligence. Residents can remain in their vehicles\, as this is a drive-through service.
URL:https://forsythcreekweek.org/event/operation-medicine-drop/
LOCATION:Clemmons Fire Station 14\, 5931 James St\, Clemmons\, NC\, 27012
CATEGORIES:Fix the Planet
ATTACH;FMTTYPE=image/png:https://forsythcreekweek.org/wp-content/uploads/2025/12/med-drop-1.png
ORGANIZER;CN="Village of Clemmons Stormwater":MAILTO:eharrison@clemmons.org
END:VEVENT
BEGIN:VEVENT
DTSTART;TZID=America/New_York:20260323T100000
DTEND;TZID=America/New_York:20260323T140000
DTSTAMP:20260423T172904
CREATED:20260309T140219Z
LAST-MODIFIED:20260309T140219Z
UID:10000120-1774260000-1774274400@forsythcreekweek.org
SUMMARY:Kernersville Medicine Drop (Shepherd Center)
DESCRIPTION:Residents can dispose of expired\, unwanted\, or unused prescription drugs and over the counter medications – NO QUESTIONS ASKED – during Operation Medicine Drop at The Shepherds Center of Kernersville- 636 Gralin – with help from the Kernersville Police Department. Residents can remain in their vehicles\, as this is a drive-through service. Please note\, we will not be accepting sharps for this event. \n\n\n\n\n\n\n\n\n\n 
URL:https://forsythcreekweek.org/event/kernersville-medicine-drop/
LOCATION:The Shepherds Center\, 636 Gralin St\, Kernersville\, 27284
CATEGORIES:Fix the Planet
ATTACH;FMTTYPE=image/jpeg:https://forsythcreekweek.org/wp-content/uploads/2026/03/Pill-Drop-Graphic.jpg
ORGANIZER;CN="Town of Kernersville Stormwater":MAILTO:whartup@toknc.com
END:VEVENT
BEGIN:VEVENT
DTSTART;TZID=America/New_York:20260323T120000
DTEND;TZID=America/New_York:20260323T130000
DTSTAMP:20260423T172904
CREATED:20260206T191647Z
LAST-MODIFIED:20260304T140817Z
UID:10000108-1774267200-1774270800@forsythcreekweek.org
SUMMARY:Forsyth Audubon Bird Walk
DESCRIPTION:Join Forsyth Audubon for our Monday Bird Walk at Winston Lake Park guided by Tim Miller.  All skill levels are welcome.  We will meet at the north end of the park by the pier located at Winston Lake Park 1344\, Winston Park Dr\, Winston-Salem.  Late March is the end of “weird duck season” so we’ll scan the water for any lingering waterfowl. It also is the start of spring migration. The habitat at the lake is perfect for the vanguards of that northward movement\, Louisiana Waterthrush\, Common Yellowthroat\, and various swallow species. We’ll patrol the water’s edge in hopes of scrounging up some “first of springs”. We’ll keep the walk short and flat\, but things may get a bit muddy!
URL:https://forsythcreekweek.org/event/bird-walk/
LOCATION:Winston Lake\,Winston Lake Park 1344 Winston Park Dr\, Winston-Salem\, NC\, Winston Lake Park 1344 Winston Park Dr\, Winston-Salem\,\, 27105
CATEGORIES:Fun to Do
ATTACH;FMTTYPE=image/png:https://forsythcreekweek.org/wp-content/uploads/2026/02/FamilyNatureWalk.png
END:VEVENT
BEGIN:VEVENT
DTSTART;TZID=America/New_York:20260323T173000
DTEND;TZID=America/New_York:20260323T193000
DTSTAMP:20260423T172904
CREATED:20251210T204533Z
LAST-MODIFIED:20260226T142415Z
UID:10000056-1774287000-1774294200@forsythcreekweek.org
SUMMARY:Paint & Pop: Creek Week Edition
DESCRIPTION:Dive into creativity during Creek Week! Join us for a nature-inspired painting class we’ll capture the beauty of our local waterways while learning fun painting techniques. No experience needed – just bring your imagination and love of the outdoors!  Supplies are limited.  Registration required
URL:https://forsythcreekweek.org/event/paint-and-pop/
LOCATION:Rural Hall/Stanleyville Branch Library\, 7125 Broad St.\, Rural Hall\, NC\, 27045
CATEGORIES:Fun to Do
ATTACH;FMTTYPE=image/png:https://forsythcreekweek.org/wp-content/uploads/2025/12/Painting-stock-photo.png
END:VEVENT
END:VCALENDAR