BEGIN:VCALENDAR
VERSION:2.0
PRODID:-//Forsyth Creek Week - ECPv6.15.20//NONSGML v1.0//EN
CALSCALE:GREGORIAN
METHOD:PUBLISH
X-WR-CALNAME:Forsyth Creek Week
X-ORIGINAL-URL:https://forsythcreekweek.org
X-WR-CALDESC:Events for Forsyth Creek Week
REFRESH-INTERVAL;VALUE=DURATION:PT1H
X-Robots-Tag:noindex
X-PUBLISHED-TTL:PT1H
BEGIN:VTIMEZONE
TZID:America/New_York
BEGIN:DAYLIGHT
TZOFFSETFROM:-0500
TZOFFSETTO:-0400
TZNAME:EDT
DTSTART:20250309T070000
END:DAYLIGHT
BEGIN:STANDARD
TZOFFSETFROM:-0400
TZOFFSETTO:-0500
TZNAME:EST
DTSTART:20251102T060000
END:STANDARD
BEGIN:DAYLIGHT
TZOFFSETFROM:-0500
TZOFFSETTO:-0400
TZNAME:EDT
DTSTART:20260308T070000
END:DAYLIGHT
BEGIN:STANDARD
TZOFFSETFROM:-0400
TZOFFSETTO:-0500
TZNAME:EST
DTSTART:20261101T060000
END:STANDARD
BEGIN:DAYLIGHT
TZOFFSETFROM:-0500
TZOFFSETTO:-0400
TZNAME:EDT
DTSTART:20270314T070000
END:DAYLIGHT
BEGIN:STANDARD
TZOFFSETFROM:-0400
TZOFFSETTO:-0500
TZNAME:EST
DTSTART:20271107T060000
END:STANDARD
END:VTIMEZONE
BEGIN:VEVENT
DTSTART;TZID=America/New_York:20260321T000000
DTEND;TZID=America/New_York:20260328T235959
DTSTAMP:20260423T182645
CREATED:20251216T210958Z
LAST-MODIFIED:20260226T141756Z
UID:10000069-1774051200-1774742399@forsythcreekweek.org
SUMMARY:Creek Week Bingo
DESCRIPTION:Want to learn how to help local waterways? Pick up a Forsyth Creek Week bingo card\, complete a set of water-friendly tasks\, and return the completed card for a small prize by Saturday\, March 28. 
URL:https://forsythcreekweek.org/event/creek-week-bingo/
LOCATION:Clemmons Branch Library\, 6365 James St.\, Clemmons\, NC\, 27012
CATEGORIES:Fun to Do
END:VEVENT
BEGIN:VEVENT
DTSTART;TZID=America/New_York:20260321T000000
DTEND;TZID=America/New_York:20260329T235959
DTSTAMP:20260423T182645
CREATED:20260312T193259Z
LAST-MODIFIED:20260312T193259Z
UID:10000124-1774051200-1774828799@forsythcreekweek.org
SUMMARY:I ♥️ My Watershed Activity Booklets
DESCRIPTION:Visit any Forsyth County Public Library branch during Forsyth Creek Week and pick up a free “I ♥️ My Watershed” activity booklet! The booklet is filled with word games\, drawing pages\, steps for a self-led creek exploration\, and more. \n  \nStormwater SMART provides free water quality lessons to all schools and community groups in our member area (including Forsyth County). Just email stormwatersmart@ptrc.org to request a free program. \n\n\n\n\n\n\n\n\n\n 
URL:https://forsythcreekweek.org/event/booklets/
LOCATION:Various – see event description
CATEGORIES:Fix the Planet,Fun to Do
ATTACH;FMTTYPE=image/jpeg:https://forsythcreekweek.org/wp-content/uploads/2026/03/IMG_0090-scaled.jpeg
ORGANIZER;CN="Stormwater SMART (PTRC)":MAILTO:stormwatersmart@ptrc.org
END:VEVENT
BEGIN:VEVENT
DTSTART;TZID=America/New_York:20260322T000000
DTEND;TZID=America/New_York:20260322T235959
DTSTAMP:20260423T182645
CREATED:20251230T192626Z
LAST-MODIFIED:20251230T192626Z
UID:10000084-1774137600-1774223999@forsythcreekweek.org
SUMMARY:Clemmons Cleanup
DESCRIPTION:Independent clean-ups available throughout Clemmons! Sign up for a time that works best for your group\, and we’ll provide the clean up supplies. Registration link opens in February\, 2026. \n\n\n\n\n\n\n\n\n\n 
URL:https://forsythcreekweek.org/event/clemmons-cleanup-2/
CATEGORIES:Fix the Planet,Fun to Do
ATTACH;FMTTYPE=image/png:https://forsythcreekweek.org/wp-content/uploads/2025/12/Creek-Week-Cleanup-FB-Cover-22nd.png
ORGANIZER;CN="Village of Clemmons Stormwater":MAILTO:eharrison@clemmons.org
END:VEVENT
BEGIN:VEVENT
DTSTART;TZID=America/New_York:20260323T100000
DTEND;TZID=America/New_York:20260323T130000
DTSTAMP:20260423T182645
CREATED:20251230T192334Z
LAST-MODIFIED:20251230T193724Z
UID:10000082-1774260000-1774270800@forsythcreekweek.org
SUMMARY:Operation Medicine Drop
DESCRIPTION:Residents can dispose of expired\, unwanted\, or unused prescription drugs and over the counter medications – NO QUESTIONS ASKED – during Operation Medicine Drop at Clemmons Public Works – 3800 Dillon Industrial Drive – with help from the Forsyth County Sheriff’s Office and Inmar Intelligence. Residents can remain in their vehicles\, as this is a drive-through service.
URL:https://forsythcreekweek.org/event/operation-medicine-drop/
LOCATION:Clemmons Fire Station 14\, 5931 James St\, Clemmons\, NC\, 27012
CATEGORIES:Fix the Planet
ATTACH;FMTTYPE=image/png:https://forsythcreekweek.org/wp-content/uploads/2025/12/med-drop-1.png
ORGANIZER;CN="Village of Clemmons Stormwater":MAILTO:eharrison@clemmons.org
END:VEVENT
BEGIN:VEVENT
DTSTART;TZID=America/New_York:20260324T103000
DTEND;TZID=America/New_York:20260324T110000
DTSTAMP:20260423T182645
CREATED:20251211T134812Z
LAST-MODIFIED:20260226T142800Z
UID:10000044-1774348200-1774350000@forsythcreekweek.org
SUMMARY:Toddler Storytime – Frogs
DESCRIPTION:Join us for a special frog-themed Toddler Storytime at Clemmons Branch Library. Children will build language skills\, explore letters and sounds\, and discover new words through stories\, music\, rhymes\, and interactive play Recommended for children ages 18 months through 3 years and their caregivers.
URL:https://forsythcreekweek.org/event/toddler-storytime-frogs/
LOCATION:Clemmons Branch Library\, 6365 James St.\, Clemmons\, NC\, 27012
CATEGORIES:Listen & Learn
ATTACH;FMTTYPE=image/png:https://forsythcreekweek.org/wp-content/uploads/2025/12/Storytime-FCW1-4-scaled.png
END:VEVENT
BEGIN:VEVENT
DTSTART;TZID=America/New_York:20260325T000000
DTEND;TZID=America/New_York:20260328T235959
DTSTAMP:20260423T182645
CREATED:20260306T190444Z
LAST-MODIFIED:20260306T190637Z
UID:10000119-1774396800-1774742399@forsythcreekweek.org
SUMMARY:Household Hazardous Waste Recycling
DESCRIPTION:3RC EnviroStation accepts chemical and other household hazardous waste that should not be disposed of in a landfill. It also accepts electronic waste\, such as computers and televisions\, that are banned from landfills under North Carolina law. Click on the link here to see the types of wastes accepted on the second page. \n  \nThis waste could cause environmental damage or contaminate groundwater if disposed of improperly.  Forsyth County residents may drop off electronic waste and household hazardous waste at the EnviroStation at no charge. Regular trash\, recyclables\, ammunition\, explosives\, radioactive\, medical/infectious waste and e-cigarette waste is not accepted. This is a free service provided to all Forsyth County residents by the City of Winston-Salem Stormwater Division and Winston-Salem/Forsyth County Utilities. \n\n\n\n\n\n\n\n\n\n 
URL:https://forsythcreekweek.org/event/household-hazardous-waste-recycling/
LOCATION:3RC EnviroStation\, 1401 S. Martin Luther King Jr. Drive\, Winston-Salem\, NC\, 27107
CATEGORIES:Fix the Planet
ATTACH;FMTTYPE=image/png:https://forsythcreekweek.org/wp-content/uploads/2026/03/3RC_Photo.png
END:VEVENT
BEGIN:VEVENT
DTSTART;TZID=America/New_York:20260325T080000
DTEND;TZID=America/New_York:20260327T170000
DTSTAMP:20260423T182645
CREATED:20260102T151709Z
LAST-MODIFIED:20260309T200805Z
UID:10000086-1774425600-1774630800@forsythcreekweek.org
SUMMARY:Shoreline Garden Kit Giveaway
DESCRIPTION:Enjoy a free kit of garden plugs courtesy of Town of Kernersville Stormwater\, Town of Lewisville\, and Village of Clemmons. Plant along the shoreline or create a raingarden to help improve stability and beauty! Registration required (one kit per person). \nTo sign up for your kit\, follow the link below: https://www.signupgenius.com/go/9040D45A9AB28A4F94-62853661-rain    \n  \nIf you live in or near Winston-Salem and would like a kit\, please plan to participate in Keep Winston Salem Beautiful’s Plant This\, Not That class on March 28th\, 2026 at 1pm. Register at the link below. (One kit per household). \nPlant This\, Not That: Using Native Plants to Stabilize Soil Tickets\, Saturday\, Mar 28 from 1 pm to 2 pm | Eventbrite
URL:https://forsythcreekweek.org/event/shoreline-garden-kit-giveaway/
LOCATION:Various – see event description
CATEGORIES:Fix the Planet
ATTACH;FMTTYPE=image/png:https://forsythcreekweek.org/wp-content/uploads/2026/01/Raingarden-Kit-Giveaway-1.png
ORGANIZER;CN="Town of Kernersville Stormwater":MAILTO:whartup@toknc.com
END:VEVENT
BEGIN:VEVENT
DTSTART;TZID=America/New_York:20260325T113000
DTEND;TZID=America/New_York:20260325T120000
DTSTAMP:20260423T182645
CREATED:20251210T205745Z
LAST-MODIFIED:20251210T205745Z
UID:10000042-1774438200-1774440000@forsythcreekweek.org
SUMMARY:Music & Movement - Creek Week Edition
DESCRIPTION:Lenny the Lifeguard will be a special guest at Clemmons Branch Library as children and their caregivers enjoy songs\, activities\, and stories that reinforce early reading skills.   Recommended for children ages 2-5 and their caregivers. \n\n\n\n\n\n\n\n\n\n 
URL:https://forsythcreekweek.org/event/music-and-movement/
LOCATION:Clemmons Branch Library\, 6365 James St.\, Clemmons\, NC\, 27012
CATEGORIES:Fun to Do,Listen & Learn
ATTACH;FMTTYPE=image/png:https://forsythcreekweek.org/wp-content/uploads/2025/12/music-and-movement.png
END:VEVENT
BEGIN:VEVENT
DTSTART;TZID=America/New_York:20260325T120000
DTEND;TZID=America/New_York:20260325T130000
DTSTAMP:20260423T182645
CREATED:20260302T130652Z
LAST-MODIFIED:20260302T130652Z
UID:10000109-1774440000-1774443600@forsythcreekweek.org
SUMMARY:Growing Green: Water-Wise Practices for Sustainable Gardens
DESCRIPTION:  \n\n\n\nDiscover how smart water management can make your home garden more sustainable and resilient. This program highlights research-based best practices for conserving water\, selecting water-wise plants\, and using efficient irrigation to create a thriving garden that also protects local water resources. Our presenter for this month is Rebecca Craps\, Extension Agent\, Environment and Natural Resources. This class is part of the Arboretum Adult Education series held at Tanglewood Park in Clemmons\, NC. This class will be held in person at Walnut Hall in Tanglewood Park. Registered participants will receive driving directions. Registration will open 2 weeks before each class and close 24 hours prior to the program. To register\, visit: https://arboretum-education-march2026.eventbrite.com Call 336-703-2850 if you need assistance. For questions about the Adult Education series\, please contact Leslie Rose\, County Extension Director\, at leslie_rose@ncsu.edu or 336-703-2851. \n  \nN.C. Cooperative Extension prohibits discrimination on the basis of race\, color\, national origin\, age\, sex (including pregnancy)\, disability\, religion\, sexual orientation\, gender identity\, genetic information\, political affiliation\, and veteran status. In compliance with the Americans with Disabilities Act\, N.C. Cooperative Extension will honor requests for reasonable accommodations made by individuals with disabilities. Please direct accommodation requests to Leslie Rose at (336) 703-2850 or by email at leslie_rose@ncsu.edu. Requests can be served more effectively if notice is provided at least 10 days before the event. \n\n\n\n\n\n\n\n\n\n 
URL:https://forsythcreekweek.org/event/growing-green/
LOCATION:Walnut Hall\, 600 River Birch Circle\, Clemmons\, 27012
CATEGORIES:Listen & Learn
ATTACH;FMTTYPE=image/jpeg:https://forsythcreekweek.org/wp-content/uploads/2026/02/7sigma_RainGarden_66.jpg
END:VEVENT
BEGIN:VEVENT
DTSTART;TZID=America/New_York:20260325T160000
DTEND;TZID=America/New_York:20260325T170000
DTSTAMP:20260423T182645
CREATED:20251210T204155Z
LAST-MODIFIED:20260226T135317Z
UID:10000055-1774454400-1774458000@forsythcreekweek.org
SUMMARY:Creek Week STEAM for Kids
DESCRIPTION:Make new friends and do fun (and messy!) experiments while learning science\, technology\, engineering\, art\, and math concepts at Clemmons Branch Library. March’s experiment is creek and ocean slime in honor of Forsyth Creek Week. Recommended for ages 4-12. Parents are welcome and encouraged to join in the fun as well. Supplies are limited. Registration is required.
URL:https://forsythcreekweek.org/event/creek-week-steam-for-kids/
LOCATION:Clemmons Branch Library\, 6365 James St.\, Clemmons\, NC\, 27012
CATEGORIES:Fun to Do
ATTACH;FMTTYPE=image/png:https://forsythcreekweek.org/wp-content/uploads/2025/12/SlimeMaking.png
END:VEVENT
BEGIN:VEVENT
DTSTART;TZID=America/New_York:20260326T103000
DTEND;TZID=America/New_York:20260326T110000
DTSTAMP:20260423T182645
CREATED:20251211T134957Z
LAST-MODIFIED:20251211T135014Z
UID:10000045-1774521000-1774522800@forsythcreekweek.org
SUMMARY:Preschool Storytime - Frogs
DESCRIPTION:Join us for a special Preschool Storytime to celebrate Forsyth Creek Week at Clemmons Branch Library. Children will grow into successful readers through stories\, songs\, and activities. Recommended for children ages 3-5 and their caregivers. \n\n\n\n\n\n\n\n\n\n 
URL:https://forsythcreekweek.org/event/preschool-storytime-frogs/
LOCATION:Clemmons Branch Library\, 6365 James St.\, Clemmons\, NC\, 27012
CATEGORIES:Listen & Learn
ATTACH;FMTTYPE=image/png:https://forsythcreekweek.org/wp-content/uploads/2025/12/Storytime-FCW1-5-scaled.png
END:VEVENT
END:VCALENDAR