BEGIN:VCALENDAR
VERSION:2.0
PRODID:-//Forsyth Creek Week - ECPv6.15.20//NONSGML v1.0//EN
CALSCALE:GREGORIAN
METHOD:PUBLISH
X-ORIGINAL-URL:https://forsythcreekweek.org
X-WR-CALDESC:Events for Forsyth Creek Week
REFRESH-INTERVAL;VALUE=DURATION:PT1H
X-Robots-Tag:noindex
X-PUBLISHED-TTL:PT1H
BEGIN:VTIMEZONE
TZID:America/New_York
BEGIN:DAYLIGHT
TZOFFSETFROM:-0500
TZOFFSETTO:-0400
TZNAME:EDT
DTSTART:20250309T070000
END:DAYLIGHT
BEGIN:STANDARD
TZOFFSETFROM:-0400
TZOFFSETTO:-0500
TZNAME:EST
DTSTART:20251102T060000
END:STANDARD
BEGIN:DAYLIGHT
TZOFFSETFROM:-0500
TZOFFSETTO:-0400
TZNAME:EDT
DTSTART:20260308T070000
END:DAYLIGHT
BEGIN:STANDARD
TZOFFSETFROM:-0400
TZOFFSETTO:-0500
TZNAME:EST
DTSTART:20261101T060000
END:STANDARD
BEGIN:DAYLIGHT
TZOFFSETFROM:-0500
TZOFFSETTO:-0400
TZNAME:EDT
DTSTART:20270314T070000
END:DAYLIGHT
BEGIN:STANDARD
TZOFFSETFROM:-0400
TZOFFSETTO:-0500
TZNAME:EST
DTSTART:20271107T060000
END:STANDARD
END:VTIMEZONE
BEGIN:VEVENT
DTSTART;TZID=America/New_York:20260321T000000
DTEND;TZID=America/New_York:20260329T235959
DTSTAMP:20260423T194630
CREATED:20260312T193259Z
LAST-MODIFIED:20260312T193259Z
UID:10000124-1774051200-1774828799@forsythcreekweek.org
SUMMARY:I ♥️ My Watershed Activity Booklets
DESCRIPTION:Visit any Forsyth County Public Library branch during Forsyth Creek Week and pick up a free “I ♥️ My Watershed” activity booklet! The booklet is filled with word games\, drawing pages\, steps for a self-led creek exploration\, and more. \n  \nStormwater SMART provides free water quality lessons to all schools and community groups in our member area (including Forsyth County). Just email stormwatersmart@ptrc.org to request a free program. \n\n\n\n\n\n\n\n\n\n 
URL:https://forsythcreekweek.org/event/booklets/
LOCATION:Various – see event description
CATEGORIES:Fix the Planet,Fun to Do
ATTACH;FMTTYPE=image/jpeg:https://forsythcreekweek.org/wp-content/uploads/2026/03/IMG_0090-scaled.jpeg
ORGANIZER;CN="Stormwater SMART (PTRC)":MAILTO:stormwatersmart@ptrc.org
END:VEVENT
BEGIN:VEVENT
DTSTART;TZID=America/New_York:20260401T100000
DTEND;TZID=America/New_York:20260401T110000
DTSTAMP:20260423T194630
CREATED:20251120T161409Z
LAST-MODIFIED:20251124T181945Z
UID:10000011-1775037600-1775041200@forsythcreekweek.org
SUMMARY:Nature Kids: Series 1
DESCRIPTION:This program is for preschool aged children. This is a 4-week program that meets on Wednesdays. Each class is centered around an animal. We play games\, do crafts and meet live animals! We plan to be outside weather permitting. Guardian stay is required. Registration required. For more information\, please call 336-650-7677 or email codyo@cityofws.org. \nRegister Here!
URL:https://forsythcreekweek.org/event/nature-kids-1/2026-04-01/
CATEGORIES:Fun to Do
ATTACH;FMTTYPE=image/png:https://forsythcreekweek.org/wp-content/uploads/2025/11/Nature-Kids-Banner-scaled.png
END:VEVENT
BEGIN:VEVENT
DTSTART;TZID=America/New_York:20260402T100000
DTEND;TZID=America/New_York:20260402T110000
DTSTAMP:20260423T194630
CREATED:20251218T155157Z
LAST-MODIFIED:20251218T155157Z
UID:10000076-1775124000-1775127600@forsythcreekweek.org
SUMMARY:Nature Kids: Series 2
DESCRIPTION:This program is for preschool aged children. This is a 4-week program that meets on Thursdays. Each\nclass is centered around an animal. We play games\, do crafts and meet live animals! This version is\ndesigned for kids that have already participated in the original Nature Kids. For more information\, please\ncall 336-650-7677 or email codyo@cityofws.org
URL:https://forsythcreekweek.org/event/nature-kids-2/2026-04-02/
LOCATION:Salem Lake Park\, 815 Salem Park Rd\, Winston-Salem\, NC\, 27107
CATEGORIES:Fun to Do
ATTACH;FMTTYPE=image/png:https://forsythcreekweek.org/wp-content/uploads/2025/12/Nature-Kids-Flyer-2025-2.png
END:VEVENT
END:VCALENDAR