BEGIN:VCALENDAR
VERSION:2.0
PRODID:-//Forsyth Creek Week - ECPv6.15.20//NONSGML v1.0//EN
CALSCALE:GREGORIAN
METHOD:PUBLISH
X-ORIGINAL-URL:https://forsythcreekweek.org
X-WR-CALDESC:Events for Forsyth Creek Week
REFRESH-INTERVAL;VALUE=DURATION:PT1H
X-Robots-Tag:noindex
X-PUBLISHED-TTL:PT1H
BEGIN:VTIMEZONE
TZID:America/New_York
BEGIN:DAYLIGHT
TZOFFSETFROM:-0500
TZOFFSETTO:-0400
TZNAME:EDT
DTSTART:20250309T070000
END:DAYLIGHT
BEGIN:STANDARD
TZOFFSETFROM:-0400
TZOFFSETTO:-0500
TZNAME:EST
DTSTART:20251102T060000
END:STANDARD
BEGIN:DAYLIGHT
TZOFFSETFROM:-0500
TZOFFSETTO:-0400
TZNAME:EDT
DTSTART:20260308T070000
END:DAYLIGHT
BEGIN:STANDARD
TZOFFSETFROM:-0400
TZOFFSETTO:-0500
TZNAME:EST
DTSTART:20261101T060000
END:STANDARD
BEGIN:DAYLIGHT
TZOFFSETFROM:-0500
TZOFFSETTO:-0400
TZNAME:EDT
DTSTART:20270314T070000
END:DAYLIGHT
BEGIN:STANDARD
TZOFFSETFROM:-0400
TZOFFSETTO:-0500
TZNAME:EST
DTSTART:20271107T060000
END:STANDARD
END:VTIMEZONE
BEGIN:VEVENT
DTSTART;TZID=America/New_York:20260321T090000
DTEND;TZID=America/New_York:20260321T103000
DTSTAMP:20260423T185130
CREATED:20251229T183038Z
LAST-MODIFIED:20260226T141719Z
UID:10000081-1774083600-1774089000@forsythcreekweek.org
SUMMARY:Plirding
DESCRIPTION:What is PLIRDING??  Simply\, it means picking up trash while birding.  Join Forsyth Audubon for Plirding at Newell Massey Greenway along Brushy Fork Creek.  Parking available at 3584 Winston Lake Rd then cross Waterworks Rd to get on the paved greenway. Parking also available in the gravel lot adjacent to the greenway.  Bring used plastic bags\, gloves\, optional trash grabber.  Binoculars provided. \n\n\n\n\n\n\n\n\n\n 
URL:https://forsythcreekweek.org/event/plirding/
LOCATION:NC
CATEGORIES:Fix the Planet,Fun to Do
ATTACH;FMTTYPE=image/png:https://forsythcreekweek.org/wp-content/uploads/2025/12/Plirding.png
END:VEVENT
END:VCALENDAR