BEGIN:VCALENDAR
VERSION:2.0
PRODID:-//Forsyth Creek Week - ECPv6.15.20//NONSGML v1.0//EN
CALSCALE:GREGORIAN
METHOD:PUBLISH
X-WR-CALNAME:Forsyth Creek Week
X-ORIGINAL-URL:https://forsythcreekweek.org
X-WR-CALDESC:Events for Forsyth Creek Week
REFRESH-INTERVAL;VALUE=DURATION:PT1H
X-Robots-Tag:noindex
X-PUBLISHED-TTL:PT1H
BEGIN:VTIMEZONE
TZID:America/New_York
BEGIN:DAYLIGHT
TZOFFSETFROM:-0500
TZOFFSETTO:-0400
TZNAME:EDT
DTSTART:20250309T070000
END:DAYLIGHT
BEGIN:STANDARD
TZOFFSETFROM:-0400
TZOFFSETTO:-0500
TZNAME:EST
DTSTART:20251102T060000
END:STANDARD
BEGIN:DAYLIGHT
TZOFFSETFROM:-0500
TZOFFSETTO:-0400
TZNAME:EDT
DTSTART:20260308T070000
END:DAYLIGHT
BEGIN:STANDARD
TZOFFSETFROM:-0400
TZOFFSETTO:-0500
TZNAME:EST
DTSTART:20261101T060000
END:STANDARD
BEGIN:DAYLIGHT
TZOFFSETFROM:-0500
TZOFFSETTO:-0400
TZNAME:EDT
DTSTART:20270314T070000
END:DAYLIGHT
BEGIN:STANDARD
TZOFFSETFROM:-0400
TZOFFSETTO:-0500
TZNAME:EST
DTSTART:20271107T060000
END:STANDARD
END:VTIMEZONE
BEGIN:VEVENT
DTSTART;TZID=America/New_York:20260324T180000
DTEND;TZID=America/New_York:20260324T190000
DTSTAMP:20260423T153947
CREATED:20251211T130106Z
LAST-MODIFIED:20260121T221638Z
UID:10000060-1774375200-1774378800@forsythcreekweek.org
SUMMARY:Better by a Dam Site!
DESCRIPTION:Water. We take it for granted. We turn on the tap\, take a shower\, flush the toilet and it’s there! But do you know where it comes from\, how it’s processed and how it gets to your faucet? Gather for this family-friendly session outside the Great Room at Salem Lake Marina Center. After a look at the dam with our expert\, we’ll move inside for a presentation. Enjoy spectacular views of one of our drinking water sources and discover how we turn it into top-notch drinking water delivered straight to your tap! Guests can win free gifts and prize drawings. No RSVP is needed for this program\, scheduled to last 60 minutes and led by Forsyth Creek Week sponsor Winston-Salem/Forsyth County Utilities. Prizes include: Twin City Thunderbirds hockey tickets\, Fairgrounds Arena ice skating passes & skate rental\, Salem Lake kayak rentals and Forsyth Creek Week T-shirts.
URL:https://forsythcreekweek.org/event/better-by-a-dam-site/
LOCATION:Salem Lake Park\, 815 Salem Park Rd\, Winston-Salem\, NC\, 27107
CATEGORIES:Tour
ATTACH;FMTTYPE=image/png:https://forsythcreekweek.org/wp-content/uploads/2025/12/WSFCU-Salem-Lake-Dam-4kb.png
END:VEVENT
BEGIN:VEVENT
DTSTART;TZID=America/New_York:20260325T120000
DTEND;TZID=America/New_York:20260325T130000
DTSTAMP:20260423T153947
CREATED:20260302T130652Z
LAST-MODIFIED:20260302T130652Z
UID:10000109-1774440000-1774443600@forsythcreekweek.org
SUMMARY:Growing Green: Water-Wise Practices for Sustainable Gardens
DESCRIPTION:  \n\n\n\nDiscover how smart water management can make your home garden more sustainable and resilient. This program highlights research-based best practices for conserving water\, selecting water-wise plants\, and using efficient irrigation to create a thriving garden that also protects local water resources. Our presenter for this month is Rebecca Craps\, Extension Agent\, Environment and Natural Resources. This class is part of the Arboretum Adult Education series held at Tanglewood Park in Clemmons\, NC. This class will be held in person at Walnut Hall in Tanglewood Park. Registered participants will receive driving directions. Registration will open 2 weeks before each class and close 24 hours prior to the program. To register\, visit: https://arboretum-education-march2026.eventbrite.com Call 336-703-2850 if you need assistance. For questions about the Adult Education series\, please contact Leslie Rose\, County Extension Director\, at leslie_rose@ncsu.edu or 336-703-2851. \n  \nN.C. Cooperative Extension prohibits discrimination on the basis of race\, color\, national origin\, age\, sex (including pregnancy)\, disability\, religion\, sexual orientation\, gender identity\, genetic information\, political affiliation\, and veteran status. In compliance with the Americans with Disabilities Act\, N.C. Cooperative Extension will honor requests for reasonable accommodations made by individuals with disabilities. Please direct accommodation requests to Leslie Rose at (336) 703-2850 or by email at leslie_rose@ncsu.edu. Requests can be served more effectively if notice is provided at least 10 days before the event. \n\n\n\n\n\n\n\n\n\n 
URL:https://forsythcreekweek.org/event/growing-green/
LOCATION:Walnut Hall\, 600 River Birch Circle\, Clemmons\, 27012
CATEGORIES:Listen & Learn
ATTACH;FMTTYPE=image/jpeg:https://forsythcreekweek.org/wp-content/uploads/2026/02/7sigma_RainGarden_66.jpg
END:VEVENT
BEGIN:VEVENT
DTSTART;TZID=America/New_York:20260325T163000
DTEND;TZID=America/New_York:20260325T180000
DTSTAMP:20260423T153947
CREATED:20260302T132136Z
LAST-MODIFIED:20260302T132232Z
UID:10000110-1774456200-1774461600@forsythcreekweek.org
SUMMARY:Pawpaw: A Unique Fruit Tree for Stream Sides and Landscapes
DESCRIPTION:Learn how to ID and plant pawpaw trees. During Forsyth Creek Week\, join N.C. Cooperative Extension to learn about this unique native tree. Pawpaw trees (Asimina triloba) go hand in hand with our waterways\, thriving in the moist\, rich soil of floodplains\, stream banks\, and river ravines throughout NC. They act as important streambank stabilizers\, with wild fruit-bearing trees often found near water sources. The pawpaw tree produces a sweet fruit too eaten by wildlife and humans alike! Join to learn how to identify these trees along the greenways and in parks across Forsyth County and take some seeds home to plant in your own yards! To register\, visit: https://www.eventbrite.com/e/1983365932896?aff=oddtdtcreator \n  \nLearn a little more about pawpaws with our resident horticulture technician and pawpaw enthusiast\, Derek Morris\, via this interview. Check out other Forsyth Creek Week events here: http://forsythcreekweek.org/ For more information or questions about this workshop\, contact Extension Agent Celine Richard (cvrichar@ncsu.edu\, 336-703-2869). \n  \nN.C. Cooperative Extension prohibits discrimination on the basis of race\, color\, national origin\, age\, sex (including pregnancy)\, disability\, religion\, sexual orientation\, gender identity\, genetic information\, political affiliation\, and veteran status. In compliance with the Americans with Disabilities Act\, N.C. Cooperative Extension will honor requests for reasonable accommodations made by individuals with disabilities. Please direct accommodation requests to Leslie Rose at (336) 703-2850 or by email at leslie_rose@ncsu.edu. Requests can be served more effectively if notice is provided at least 10 days before the event. \n\n\n\n\n\n\n\n\n\n 
URL:https://forsythcreekweek.org/event/pawpaw/
LOCATION:Forsyth County Agricultural Building\, 1450 Fairchild Rd.\, Winston-Salem\, NC\, 27105
CATEGORIES:Listen & Learn
ATTACH;FMTTYPE=image/jpeg:https://forsythcreekweek.org/wp-content/uploads/2026/02/Asimina_triloba3.jpg
END:VEVENT
BEGIN:VEVENT
DTSTART;TZID=America/New_York:20260325T180000
DTEND;TZID=America/New_York:20260325T190000
DTSTAMP:20260423T153947
CREATED:20251210T201451Z
LAST-MODIFIED:20260324T014930Z
UID:10000057-1774461600-1774465200@forsythcreekweek.org
SUMMARY:Grow with the Flow: Rain Gardening for Beginners
DESCRIPTION:Learn how to turn stormwater into a garden asset in this beginner-friendly class on creating your own rain garden. Registration required. \n  \n\n\n\n\nRain gardens are a beautiful and effective way to manage stormwater right in your own yard. Join Rebecca Craps\, Natural Resources Extension Agent\, to learn more! In this introductory class\, we’ll cover how rain gardens work\, how to select the best site on your property\, soil considerations\, plant choices\, and simple design principles. Whether you’re dealing with drainage issues or just want to support cleaner waterways\, you’ll gain the tools to create a functional and attractive rain garden at home. Questions? Contact Rebecca Craps at rlcraps@ncsu.edu or 336-703-2858. \n  \nN.C. Cooperative Extension prohibits discrimination on the basis of race\, color\, national origin\, age\, sex (including pregnancy)\, disability\, religion\, sexual orientation\, gender identity\, genetic information\, political affiliation\, and veteran status. In compliance with the Americans with Disabilities Act\, Extension will honor requests for reasonable accommodations made by individuals with disabilities. Please direct accommodation requests to: Rebecca Craps\, rlcraps@ncsu.edu\, 336-703-2858. Requests can be served more effectively if notice is provided at least 10 days before the event. \n\n\n\n\n\n\n\n\n\n\n\n 
URL:https://forsythcreekweek.org/event/grow-with-the-flow/
LOCATION:Paddison Memorial Branch Library\, 248 Harmon Ln.\, Kernersville\, NC\, 27284
CATEGORIES:Listen & Learn
ATTACH;FMTTYPE=image/png:https://forsythcreekweek.org/wp-content/uploads/2025/12/Rain-Garden-stock-photo.png
END:VEVENT
BEGIN:VEVENT
DTSTART;TZID=America/New_York:20260325T183000
DTEND;TZID=America/New_York:20260325T200000
DTSTAMP:20260423T153947
CREATED:20251124T171952Z
LAST-MODIFIED:20260129T184630Z
UID:10000020-1774463400-1774468800@forsythcreekweek.org
SUMMARY:State of Our Water Panel Discussion
DESCRIPTION:Learn about the most pressing issues facing our waterways in Forsyth County and ask questions of local water experts from environmental organizations\, local government stormwater departments\, and utility providers. Light snacks\, beverages\, and door prizes will be provided. \n  \nMarch 25\, 2026 at 6:30pm at Piedmont Triad Regional Council (1398 Carrollton Crossing Drive\, Kernersville\, NC 27284). \n  \nPlease let us know you’re coming by completing a quick RSVP. Registration is recommended but not required for you to attend. Register here.
URL:https://forsythcreekweek.org/event/state-of-our-water/
LOCATION:Piedmont Triad Regional Council\, 1398 Carrollton Crossing Dr.\, Kernersville\, NC\, 27284
CATEGORIES:Listen & Learn
ATTACH;FMTTYPE=image/png:https://forsythcreekweek.org/wp-content/uploads/2025/11/STATE-OF-Our-WATER.png
END:VEVENT
BEGIN:VEVENT
DTSTART;TZID=America/New_York:20260326T163000
DTEND;TZID=America/New_York:20260326T180000
DTSTAMP:20260423T153947
CREATED:20260302T132400Z
LAST-MODIFIED:20260302T132400Z
UID:10000111-1774542600-1774548000@forsythcreekweek.org
SUMMARY:Backyard Composting Basics
DESCRIPTION:Did you know composting can help you care for our local watersheds? Composting not only addresses food waste and is great for our gardens\, but it can also help filter out pollutants before they reach our waterways! Join Cooperative Extension during Forsyth Creek Week to learn how to start and maintain your own backyard compost bin or pile\, what should and shouldn’t go in a backyard compost\, and local resources to help you get started! Attendees will be entered into a raffle to go home with a trashcan compost bin! To register\, visit: https://www.eventbrite.com/e/1983365877731?aff=oddtdtcreator \nSEE YOU THERE!\nFor more information or questions about this workshop contact Extension Agent\, Celine Richard (cvrichar@ncsu.edu\, 336-703-2869). You can also learn more about composting on our website. Check out and get involved in other Creek Week Activities! N.C. Cooperative Extension prohibits discrimination on the basis of race\, color\, national origin\, age\, sex (including pregnancy)\, disability\, religion\, sexual orientation\, gender identity\, genetic information\, political affiliation\, and veteran status. In compliance with the Americans with Disabilities Act\, N.C. Cooperative Extension will honor requests for reasonable accommodations made by individuals with disabilities. Please direct accommodation requests to Leslie Rose at (336) 703-2850 or by email at leslie_rose@ncsu.edu. Requests can be served more effectively if notice is provided at least 10 days before the event. \n\n\n\n\n\n\n\n\n\n 
URL:https://forsythcreekweek.org/event/composting/
LOCATION:Forsyth County Agricultural Building\, 1450 Fairchild Rd.\, Winston-Salem\, NC\, 27105
CATEGORIES:Listen & Learn
ATTACH;FMTTYPE=image/jpeg:https://forsythcreekweek.org/wp-content/uploads/2026/02/Composting_in_One_Garden_Brighton.jpg
END:VEVENT
BEGIN:VEVENT
DTSTART;TZID=America/New_York:20260326T180000
DTEND;TZID=America/New_York:20260326T190000
DTSTAMP:20260423T153947
CREATED:20260302T132758Z
LAST-MODIFIED:20260302T132758Z
UID:10000112-1774548000-1774551600@forsythcreekweek.org
SUMMARY:When It Happens Here: Preparing for Emergencies in Forsyth County
DESCRIPTION:Be prepared\, not panicked. Join N.C. Cooperative Extension\, Forsyth County Center\, Forsyth County Soil and Water Conservation District\, and Forsyth County Emergency Management\, for a practical emergency preparedness workshop during Forsyth Creek Week. This session will focus on the types of emergencies most likely to impact the Piedmont of North Carolina — including flooding\, severe storms\, winter weather\, and other disruptions — with special attention to water-related risks. Participants will learn what to do before\, during\, and after an emergency\, where to find reliable information in Forsyth County\, how to determine whether their home is located in a floodplain\, and where to access updates about shelters and community resources. We’ll also cover simple\, actionable steps you can take now\, including how to assemble an emergency kit and plan for food preparation during power outages. Whether you’re just getting started or looking to strengthen your current plans\, this workshop will help you feel more confident and prepared for whatever comes your way. Attendees will also have the opportunity to enter a raffle for a ready-made emergency preparedness kit. To register\, visit: https://www.eventbrite.com/e/1984085439961?aff=oddtdtcreator \n  \nN.C. Cooperative Extension prohibits discrimination on the basis of race\, color\, national origin\, age\, sex (including pregnancy)\, disability\, religion\, sexual orientation\, gender identity\, genetic information\, political affiliation\, and veteran status. In compliance with the Americans with Disabilities Act\, N.C. Cooperative Extension will honor requests for reasonable accommodations made by individuals with disabilities. Please direct accommodation requests to Leslie Rose at (336) 703-2850 or by email at leslie_rose@ncsu.edu. Requests can be served more effectively if notice is provided at least 10 days before the event. \n\n\n\n\n\n\n\n\n\n 
URL:https://forsythcreekweek.org/event/preparing-for-emergencies/
LOCATION:Malloy/Jordan East Winston Heritage Center\, 1110 E. 7th St.\, Winston-Salem\, NC\, 27101
CATEGORIES:Listen & Learn
END:VEVENT
BEGIN:VEVENT
DTSTART;TZID=America/New_York:20260328T130000
DTEND;TZID=America/New_York:20260328T140000
DTSTAMP:20260423T153947
CREATED:20260122T160656Z
LAST-MODIFIED:20260309T200215Z
UID:10000105-1774702800-1774706400@forsythcreekweek.org
SUMMARY:Plant This\, Not That: Using Native Plants to Help with Erosion Control
DESCRIPTION:Stop the wash-away and start a sanctuary! Join us for an essential workshop on Soil Stabilization and Native Planting\, where we explore how to turn eroding landscapes into thriving ecosystems. Whether you’re dealing with a steep backyard slope or a patchy garden bed\, the secret to a stable landscape lies just beneath the surface. Space is limited – registration is required. \nWhat You’ll Learn\nIn this hands-on session\, we will cover: \n\n\nEngineering with Roots: How deep-rooted native plants act as “biological rebar” to hold soil in place better than any retaining wall. \n\n\nThe Erosion Solution: Techniques for slowing down rainwater runoff to prevent nutrient loss and soil depletion. \n\n\nPollinator Partnerships: Selecting specific North Carolina native species that stabilize the earth while providing vital nectar and habitat for bees\, butterflies\, and birds. \n\n\nWhy Native Plants?\nUnlike common turf grass\, which has shallow roots\, native perennials and shrubs can reach depths of several feet. This creates a complex underground network that filters water and anchors the ground during heavy storms. \n\nWho Should Attend?\n\n\nHomeowners struggling with runoff or muddy yards. \n\n\nGardeners looking to support local biodiversity. \n\n\nCommunity members interested in sustainable land management. \n\n\nTake home a native seed packet and a custom planting guide to get started on your own property! \nLimit 1 plant per household\, while supplies last\, must register. \n\n\n\n\n\n\n\n\n\n 
URL:https://forsythcreekweek.org/event/plant-this-not-that/
LOCATION:Salem Lake Park\, 815 Salem Park Rd\, Winston-Salem\, NC\, 27107
CATEGORIES:Listen & Learn
ATTACH;FMTTYPE=image/jpeg:https://forsythcreekweek.org/wp-content/uploads/2026/01/goldenrod-wildflowers-2132951-02-c9a30d34b1a9449a90766d98c199ac42-1-scaled.jpg
ORGANIZER;CN="Keep Winston-Salem Beautiful":MAILTO:andysz@cityofws.org
END:VEVENT
BEGIN:VEVENT
DTSTART;TZID=America/New_York:20260329T130000
DTEND;TZID=America/New_York:20260329T160000
DTSTAMP:20260423T153947
CREATED:20260302T133236Z
LAST-MODIFIED:20260302T133236Z
UID:10000114-1774789200-1774800000@forsythcreekweek.org
SUMMARY:Stream Smart: Protecting Streambanks\, Boosting Biodiversity
DESCRIPTION:Discover how healthy streambanks reduce erosion\, improve water quality\, and support diverse plants and wildlife. Get your hands dirty for a good cause! This workshop teaches how to stabilize and repair small sections of streambanks while exploring stream morphology\, legal guidelines\, and effective restoration tools. Try your hand at installing coir matting\, planting live stakes\, and sowing native seeds above the high water mark. See inspiring examples of successful projects and leave with knowledge anyone can use to support healthier waterways—whether you live next to a stream or just care about the environment. Bring work gloves\, knee-high rubber boots\, and a refillable water bottle.  All other tools will be provided. To register\, visit: https://www.eventbrite.com/e/1980568857769?aff=oddtdtcreator Questions? Contact Rebecca Craps at rlcraps@ncsu.edu or 336-703-2858. \n  \nN.C. Cooperative Extension prohibits discrimination on the basis of race\, color\, national origin\, age\, sex (including pregnancy)\, disability\, religion\, sexual orientation\, gender identity\, genetic information\, political affiliation\, and veteran status. In compliance with the Americans with Disabilities Act\, Extension will honor requests for reasonable accommodations made by individuals with disabilities. Please direct accommodation requests to: Rebecca Craps\, rlcraps@ncsu.edu\, 336-703-2858. Requests can be served more effectively if notice is provided at least 10 days before the event. \n\n\n\n\n\n\n\n\n\n 
URL:https://forsythcreekweek.org/event/stream-smart/
LOCATION:Arboretum\, Manor House Circle\, Clemmons\, 27012
CATEGORIES:Fix the Planet,Listen & Learn
ATTACH;FMTTYPE=image/jpeg:https://forsythcreekweek.org/wp-content/uploads/2026/02/IMG_0983-scaled.jpg
END:VEVENT
END:VCALENDAR