BEGIN:VCALENDAR
VERSION:2.0
PRODID:-//Forsyth Creek Week - ECPv6.15.20//NONSGML v1.0//EN
CALSCALE:GREGORIAN
METHOD:PUBLISH
X-ORIGINAL-URL:https://forsythcreekweek.org
X-WR-CALDESC:Events for Forsyth Creek Week
REFRESH-INTERVAL;VALUE=DURATION:PT1H
X-Robots-Tag:noindex
X-PUBLISHED-TTL:PT1H
BEGIN:VTIMEZONE
TZID:America/New_York
BEGIN:DAYLIGHT
TZOFFSETFROM:-0500
TZOFFSETTO:-0400
TZNAME:EDT
DTSTART:20250309T070000
END:DAYLIGHT
BEGIN:STANDARD
TZOFFSETFROM:-0400
TZOFFSETTO:-0500
TZNAME:EST
DTSTART:20251102T060000
END:STANDARD
BEGIN:DAYLIGHT
TZOFFSETFROM:-0500
TZOFFSETTO:-0400
TZNAME:EDT
DTSTART:20260308T070000
END:DAYLIGHT
BEGIN:STANDARD
TZOFFSETFROM:-0400
TZOFFSETTO:-0500
TZNAME:EST
DTSTART:20261101T060000
END:STANDARD
BEGIN:DAYLIGHT
TZOFFSETFROM:-0500
TZOFFSETTO:-0400
TZNAME:EDT
DTSTART:20270314T070000
END:DAYLIGHT
BEGIN:STANDARD
TZOFFSETFROM:-0400
TZOFFSETTO:-0500
TZNAME:EST
DTSTART:20271107T060000
END:STANDARD
END:VTIMEZONE
BEGIN:VEVENT
DTSTART;TZID=America/New_York:20260301T000000
DTEND;TZID=America/New_York:20260331T235959
DTSTAMP:20260423T160704
CREATED:20251216T211111Z
LAST-MODIFIED:20260106T163204Z
UID:10000066-1772323200-1775001599@forsythcreekweek.org
SUMMARY:Native Piedmont Plants Exhibit and Seed Giveaway
DESCRIPTION:Celebrate Creek Week with Keep Winston-Salem Beautiful and the North Carolina Collection. Visit our month-long exhibit highlighting native plants along with a seed giveaway to help you get started with your own native plant garden. Exhibit is open Monday – Thursday from 9 a.m. to 8 p.m.\, Friday from 9 a.m. to 6 p.m. and Saturday from 10 a.m. to 5 p.m. Stop by the North Carolina Collection on the second floor of the Central Library and check it out! 
URL:https://forsythcreekweek.org/event/native-piedmont-plants-exhibit-and-seed-giveaway/
LOCATION:Central Library\, 660 W. 5th St.\, Winston-Salem\, NC\, 27101
CATEGORIES:Fix the Planet,Fun to Do
ATTACH;FMTTYPE=image/jpeg:https://forsythcreekweek.org/wp-content/uploads/2025/12/What-does-native-mean-1-scaled.jpg
ORGANIZER;CN="Keep Winston-Salem Beautiful":MAILTO:andysz@cityofws.org
END:VEVENT
BEGIN:VEVENT
DTSTART;TZID=America/New_York:20260301T000000
DTEND;TZID=America/New_York:20260331T235959
DTSTAMP:20260423T160704
CREATED:20260310T203129Z
LAST-MODIFIED:20260310T203129Z
UID:10000122-1772323200-1775001599@forsythcreekweek.org
SUMMARY:Froggy Scavenger Hunt
DESCRIPTION:Explore the library and enjoy a friendly challenge with our monthly Scavenger Hunt. Hidden in the Southside Branch Library’s children’s area are 11 different types of frogs. Once you’ve found all of them\, turn in your decoded message and retrieve a prize. \n  \nRecommended for ages 3-13. \n\n\n\n\n\n\n\n\n\n 
URL:https://forsythcreekweek.org/event/froggy-scavenger-hunt/
LOCATION:Southside Branch Library\, 3185 Buchanan St.\, Winston-Salem\, NC\, 27127
CATEGORIES:Fun to Do
ATTACH;FMTTYPE=image/png:https://forsythcreekweek.org/wp-content/uploads/2025/12/Froggy-Scavenger-Hunt.png
END:VEVENT
BEGIN:VEVENT
DTSTART;TZID=America/New_York:20260321T000000
DTEND;TZID=America/New_York:20260329T235959
DTSTAMP:20260423T160704
CREATED:20260312T193259Z
LAST-MODIFIED:20260312T193259Z
UID:10000124-1774051200-1774828799@forsythcreekweek.org
SUMMARY:I ♥️ My Watershed Activity Booklets
DESCRIPTION:Visit any Forsyth County Public Library branch during Forsyth Creek Week and pick up a free “I ♥️ My Watershed” activity booklet! The booklet is filled with word games\, drawing pages\, steps for a self-led creek exploration\, and more. \n  \nStormwater SMART provides free water quality lessons to all schools and community groups in our member area (including Forsyth County). Just email stormwatersmart@ptrc.org to request a free program. \n\n\n\n\n\n\n\n\n\n 
URL:https://forsythcreekweek.org/event/booklets/
LOCATION:Various – see event description
CATEGORIES:Fix the Planet,Fun to Do
ATTACH;FMTTYPE=image/jpeg:https://forsythcreekweek.org/wp-content/uploads/2026/03/IMG_0090-scaled.jpeg
ORGANIZER;CN="Stormwater SMART (PTRC)":MAILTO:stormwatersmart@ptrc.org
END:VEVENT
BEGIN:VEVENT
DTSTART;TZID=America/New_York:20260324T093000
DTEND;TZID=America/New_York:20260324T100000
DTSTAMP:20260423T160704
CREATED:20251216T212257Z
LAST-MODIFIED:20260226T142522Z
UID:10000068-1774344600-1774346400@forsythcreekweek.org
SUMMARY:Toddler Storytime – Frogs
DESCRIPTION:Join us for a special Toddler Storytime. Children will build language skills\, explore letters and sounds\, and discover new words through stories\, music\, rhymes\, and interactive play   Recommended for children ages 18 months through 3 years and their caregivers. 
URL:https://forsythcreekweek.org/event/toddler-storytime-frogs-3/
LOCATION:Clemmons Branch Library\, 6365 James St.\, Clemmons\, NC\, 27012
CATEGORIES:Fun to Do,Listen & Learn
ATTACH;FMTTYPE=image/png:https://forsythcreekweek.org/wp-content/uploads/2025/12/Storytime-FCW1-9-scaled.png
END:VEVENT
BEGIN:VEVENT
DTSTART;TZID=America/New_York:20260324T100000
DTEND;TZID=America/New_York:20260324T103000
DTSTAMP:20260423T160704
CREATED:20251211T135145Z
LAST-MODIFIED:20260226T142700Z
UID:10000049-1774346400-1774348200@forsythcreekweek.org
SUMMARY:Family Storytime – Water
DESCRIPTION:Join us for a water-themed storytime with Ms. Sarah at Carver School Road Branch Library. Recommended for ages 6 and under with their caregivers.
URL:https://forsythcreekweek.org/event/family-storytime-water/
LOCATION:Carver School Road Branch Library\, 4915 Lansing Dr.\, Winston-Salem\, NC\, 27105
CATEGORIES:Listen & Learn
ATTACH;FMTTYPE=image/png:https://forsythcreekweek.org/wp-content/uploads/2025/12/Storytime-FCW1-9-scaled.png
END:VEVENT
BEGIN:VEVENT
DTSTART;TZID=America/New_York:20260324T100000
DTEND;TZID=America/New_York:20260324T130000
DTSTAMP:20260423T160704
CREATED:20251218T131612Z
LAST-MODIFIED:20260204T140453Z
UID:10000074-1774346400-1774357200@forsythcreekweek.org
SUMMARY:Eco Expo
DESCRIPTION:The Eco Expo is a student-centered learning event hosted by Piedmont Environmental Alliance and the City of Winston-Salem Stormwater Division for Forsyth Creek Week. This event combines a traditional science and art fair with guided\, hands-on learning station experiences. All participants will participate in rotating\, expert-led investigation stations focused on earth science topics. Additionally\, students are invited to create and display their own water-related science and art projects in the exhibition hall. Project guidelines can be reviewed here and will be sent with your confirmation email after registration. \n  \nThis full-day event is one you don’t want to miss\, and registration is needed to ensure space for all attendees and projects. Please complete registration by Sunday\, March 15th to secure your space for all attendees in your group and to submit any student project descriptions. \n\n\n\n\n\n\n\n\n\n\n\n\n\n \n\n\n\n\n\n\n\n\n\n\n\n\n\n\n\n 
URL:https://forsythcreekweek.org/event/eco-expo/
LOCATION:Miller Park\, 2500 Queen St\, Winston-Salem\, NC\, 27103
CATEGORIES:Fun to Do,Listen & Learn
ATTACH;FMTTYPE=image/png:https://forsythcreekweek.org/wp-content/uploads/2025/12/Eco-Expo-Header.png
ORGANIZER;CN="City of Winston-Salem Stormwater Division":MAILTO:kaitlinc@cityofws.org
END:VEVENT
BEGIN:VEVENT
DTSTART;TZID=America/New_York:20260324T110000
DTEND;TZID=America/New_York:20260324T160000
DTSTAMP:20260423T160704
CREATED:20260108T162653Z
LAST-MODIFIED:20260108T162653Z
UID:10000096-1774350000-1774368000@forsythcreekweek.org
SUMMARY:Salamander Day
DESCRIPTION:Join us at Kaleideum to celebrate salamanders! Meet our live tiger salamander and axolotl and learn about their habitat while participation in salamander themed activities. Included with museum admission. \n\n\n\n\n\n\n\n\n\n 
URL:https://forsythcreekweek.org/event/salamander-day/
LOCATION:Kaleideum\, 120 W Third St\, Winston-Salem\, NC\, 27101
CATEGORIES:Fun to Do,Listen & Learn
ORGANIZER;CN="Kaleideum":MAILTO:info@kaleideum.org
END:VEVENT
BEGIN:VEVENT
DTSTART;TZID=America/New_York:20260324T160000
DTEND;TZID=America/New_York:20260324T170000
DTSTAMP:20260423T160704
CREATED:20251210T191613Z
LAST-MODIFIED:20260226T143107Z
UID:10000053-1774368000-1774371600@forsythcreekweek.org
SUMMARY:Every Drop Counts: Ages 6-11
DESCRIPTION:Join us for this fun hands-on program at Southside Branch Library presented by the Piedmont Environmental Alliance! Children will explore the importance of water. By creating their own “Earth in a jar\,” children will discover how they can help protect our planet’s most important resource. Program recommended for children ages 6-11.
URL:https://forsythcreekweek.org/event/every-drop-counts-2/
LOCATION:Southside Branch Library\, 3185 Buchanan St.\, Winston-Salem\, NC\, 27127
CATEGORIES:Fun to Do,Listen & Learn
ATTACH;FMTTYPE=image/png:https://forsythcreekweek.org/wp-content/uploads/2025/12/EveryDropCounts.png
END:VEVENT
END:VCALENDAR