BEGIN:VCALENDAR
VERSION:2.0
PRODID:-//Forsyth Creek Week - ECPv6.15.20//NONSGML v1.0//EN
CALSCALE:GREGORIAN
METHOD:PUBLISH
X-ORIGINAL-URL:https://forsythcreekweek.org
X-WR-CALDESC:Events for Forsyth Creek Week
REFRESH-INTERVAL;VALUE=DURATION:PT1H
X-Robots-Tag:noindex
X-PUBLISHED-TTL:PT1H
BEGIN:VTIMEZONE
TZID:America/New_York
BEGIN:DAYLIGHT
TZOFFSETFROM:-0500
TZOFFSETTO:-0400
TZNAME:EDT
DTSTART:20250309T070000
END:DAYLIGHT
BEGIN:STANDARD
TZOFFSETFROM:-0400
TZOFFSETTO:-0500
TZNAME:EST
DTSTART:20251102T060000
END:STANDARD
BEGIN:DAYLIGHT
TZOFFSETFROM:-0500
TZOFFSETTO:-0400
TZNAME:EDT
DTSTART:20260308T070000
END:DAYLIGHT
BEGIN:STANDARD
TZOFFSETFROM:-0400
TZOFFSETTO:-0500
TZNAME:EST
DTSTART:20261101T060000
END:STANDARD
BEGIN:DAYLIGHT
TZOFFSETFROM:-0500
TZOFFSETTO:-0400
TZNAME:EDT
DTSTART:20270314T070000
END:DAYLIGHT
BEGIN:STANDARD
TZOFFSETFROM:-0400
TZOFFSETTO:-0500
TZNAME:EST
DTSTART:20271107T060000
END:STANDARD
END:VTIMEZONE
BEGIN:VEVENT
DTSTART;TZID=America/New_York:20260325T183000
DTEND;TZID=America/New_York:20260325T200000
DTSTAMP:20260422T044723
CREATED:20251124T171952Z
LAST-MODIFIED:20260129T184630Z
UID:10000020-1774463400-1774468800@forsythcreekweek.org
SUMMARY:State of Our Water Panel Discussion
DESCRIPTION:Learn about the most pressing issues facing our waterways in Forsyth County and ask questions of local water experts from environmental organizations\, local government stormwater departments\, and utility providers. Light snacks\, beverages\, and door prizes will be provided. \n  \nMarch 25\, 2026 at 6:30pm at Piedmont Triad Regional Council (1398 Carrollton Crossing Drive\, Kernersville\, NC 27284). \n  \nPlease let us know you’re coming by completing a quick RSVP. Registration is recommended but not required for you to attend. Register here.
URL:https://forsythcreekweek.org/event/state-of-our-water/
LOCATION:Piedmont Triad Regional Council\, 1398 Carrollton Crossing Dr.\, Kernersville\, NC\, 27284
CATEGORIES:Listen & Learn
ATTACH;FMTTYPE=image/png:https://forsythcreekweek.org/wp-content/uploads/2025/11/STATE-OF-Our-WATER.png
END:VEVENT
BEGIN:VEVENT
DTSTART;TZID=America/New_York:20260323T160000
DTEND;TZID=America/New_York:20260323T170000
DTSTAMP:20260422T044723
CREATED:20251211T133329Z
LAST-MODIFIED:20260226T142302Z
UID:10000051-1774281600-1774285200@forsythcreekweek.org
SUMMARY:Water Quality? Ask the Bugs!
DESCRIPTION:Come have some fun playing in our model of a creek\, complete with leaf packs\, rocks\, snails and dragonflies!   Scared of bugs? Don’t worry\, we’re practicing with fake ones to learn which insects are most sensitive to pollution in the water. We’ll talk about our watershed\, how the storm system works\, and how to be safe in a real creek or stream. By the time we’re finished practicing\, you’ll be ready to try out your “bug eyes” in a real creek or stream near you!   Program presented by Piedmont Triad Regional Council-Stormwater Smart. Recommended for children ages 4-11.
URL:https://forsythcreekweek.org/event/water-quality-ask-the-bugs/
LOCATION:Lewisville Branch Library\, 6490 Shallowford Rd.\, Lewisville\, NC\, 27023
CATEGORIES:Fun to Do,Listen & Learn
ATTACH;FMTTYPE=image/png:https://forsythcreekweek.org/wp-content/uploads/2025/12/AskTheBugsCW.png
ORGANIZER;CN="Stormwater SMART (PTRC)":MAILTO:stormwatersmart@ptrc.org
END:VEVENT
BEGIN:VEVENT
DTSTART;TZID=America/New_York:20260322T140000
DTEND;TZID=America/New_York:20260322T170000
DTSTAMP:20260422T044723
CREATED:20251120T164232Z
LAST-MODIFIED:20260318T152627Z
UID:10000018-1774188000-1774198800@forsythcreekweek.org
SUMMARY:Creek Week Jamboree
DESCRIPTION:Come celebrate our water with us at the Forsyth Creek Week Kickoff Jamboree! We’ll have activities from environmental organizations from around Forsyth County and other Forsyth Creek Week partners\, food trucks\, games\, and more! The event will be held at the Fourth of July Park in Kernersville from 2pm-5pm. Parking is available at the neighboring school parking lot. \n  \nThere are so many things to do at the Jamboree! \n\nLearn about our waters from lots of local environmental organizations\nMeet live birds of prey from Owl’s Roost Wildlife Education\nFind cool bugs in the creek\nPlay games in the Kids Zone with Kaleideum\nAnd more!
URL:https://forsythcreekweek.org/event/kickoff-jamboree/
LOCATION:Fourth of July Park\, 702 W Mountain St\, Kernersville\, NC\, 27284
CATEGORIES:Fun to Do
ATTACH;FMTTYPE=image/png:https://forsythcreekweek.org/wp-content/uploads/2025/11/Forsyth-Creek-Week.png
ORGANIZER;CN="Town of Kernersville Stormwater":MAILTO:whartup@toknc.com
END:VEVENT
BEGIN:VEVENT
DTSTART;TZID=America/New_York:20260321T000000
DTEND;TZID=America/New_York:20260329T235959
DTSTAMP:20260422T044723
CREATED:20260312T193259Z
LAST-MODIFIED:20260312T193259Z
UID:10000124-1774051200-1774828799@forsythcreekweek.org
SUMMARY:I ♥️ My Watershed Activity Booklets
DESCRIPTION:Visit any Forsyth County Public Library branch during Forsyth Creek Week and pick up a free “I ♥️ My Watershed” activity booklet! The booklet is filled with word games\, drawing pages\, steps for a self-led creek exploration\, and more. \n  \nStormwater SMART provides free water quality lessons to all schools and community groups in our member area (including Forsyth County). Just email stormwatersmart@ptrc.org to request a free program. \n\n\n\n\n\n\n\n\n\n 
URL:https://forsythcreekweek.org/event/booklets/
LOCATION:Various – see event description
CATEGORIES:Fix the Planet,Fun to Do
ATTACH;FMTTYPE=image/jpeg:https://forsythcreekweek.org/wp-content/uploads/2026/03/IMG_0090-scaled.jpeg
ORGANIZER;CN="Stormwater SMART (PTRC)":MAILTO:stormwatersmart@ptrc.org
END:VEVENT
END:VCALENDAR