BEGIN:VCALENDAR
VERSION:2.0
PRODID:-//Forsyth Creek Week - ECPv6.15.20//NONSGML v1.0//EN
CALSCALE:GREGORIAN
METHOD:PUBLISH
X-ORIGINAL-URL:https://forsythcreekweek.org
X-WR-CALDESC:Events for Forsyth Creek Week
REFRESH-INTERVAL;VALUE=DURATION:PT1H
X-Robots-Tag:noindex
X-PUBLISHED-TTL:PT1H
BEGIN:VTIMEZONE
TZID:America/New_York
BEGIN:DAYLIGHT
TZOFFSETFROM:-0500
TZOFFSETTO:-0400
TZNAME:EDT
DTSTART:20250309T070000
END:DAYLIGHT
BEGIN:STANDARD
TZOFFSETFROM:-0400
TZOFFSETTO:-0500
TZNAME:EST
DTSTART:20251102T060000
END:STANDARD
BEGIN:DAYLIGHT
TZOFFSETFROM:-0500
TZOFFSETTO:-0400
TZNAME:EDT
DTSTART:20260308T070000
END:DAYLIGHT
BEGIN:STANDARD
TZOFFSETFROM:-0400
TZOFFSETTO:-0500
TZNAME:EST
DTSTART:20261101T060000
END:STANDARD
BEGIN:DAYLIGHT
TZOFFSETFROM:-0500
TZOFFSETTO:-0400
TZNAME:EDT
DTSTART:20270314T070000
END:DAYLIGHT
BEGIN:STANDARD
TZOFFSETFROM:-0400
TZOFFSETTO:-0500
TZNAME:EST
DTSTART:20271107T060000
END:STANDARD
END:VTIMEZONE
BEGIN:VEVENT
DTSTART;TZID=America/New_York:20260326T100000
DTEND;TZID=America/New_York:20260326T103000
DTSTAMP:20260423T140523
CREATED:20251210T205616Z
LAST-MODIFIED:20251210T205616Z
UID:10000048-1774519200-1774521000@forsythcreekweek.org
SUMMARY:Toddler Storytime - Water
DESCRIPTION:Join us for a water-themed storytime with Mrs. Stefanie at Paddison Memorial Branch Library. Recommended for ages 2 and under. \n\n\n\n\n\n\n\n\n\n 
URL:https://forsythcreekweek.org/event/toddler-storytime-paddison/
LOCATION:Paddison Memorial Branch Library\, 248 Harmon Ln.\, Kernersville\, NC\, 27284
CATEGORIES:Listen & Learn
ATTACH;FMTTYPE=image/png:https://forsythcreekweek.org/wp-content/uploads/2025/12/Storytime-FCW1-8-scaled.png
END:VEVENT
BEGIN:VEVENT
DTSTART;TZID=America/New_York:20260325T180000
DTEND;TZID=America/New_York:20260325T190000
DTSTAMP:20260423T140523
CREATED:20251210T201451Z
LAST-MODIFIED:20260324T014930Z
UID:10000057-1774461600-1774465200@forsythcreekweek.org
SUMMARY:Grow with the Flow: Rain Gardening for Beginners
DESCRIPTION:Learn how to turn stormwater into a garden asset in this beginner-friendly class on creating your own rain garden. Registration required. \n  \n\n\n\n\nRain gardens are a beautiful and effective way to manage stormwater right in your own yard. Join Rebecca Craps\, Natural Resources Extension Agent\, to learn more! In this introductory class\, we’ll cover how rain gardens work\, how to select the best site on your property\, soil considerations\, plant choices\, and simple design principles. Whether you’re dealing with drainage issues or just want to support cleaner waterways\, you’ll gain the tools to create a functional and attractive rain garden at home. Questions? Contact Rebecca Craps at rlcraps@ncsu.edu or 336-703-2858. \n  \nN.C. Cooperative Extension prohibits discrimination on the basis of race\, color\, national origin\, age\, sex (including pregnancy)\, disability\, religion\, sexual orientation\, gender identity\, genetic information\, political affiliation\, and veteran status. In compliance with the Americans with Disabilities Act\, Extension will honor requests for reasonable accommodations made by individuals with disabilities. Please direct accommodation requests to: Rebecca Craps\, rlcraps@ncsu.edu\, 336-703-2858. Requests can be served more effectively if notice is provided at least 10 days before the event. \n\n\n\n\n\n\n\n\n\n\n\n 
URL:https://forsythcreekweek.org/event/grow-with-the-flow/
LOCATION:Paddison Memorial Branch Library\, 248 Harmon Ln.\, Kernersville\, NC\, 27284
CATEGORIES:Listen & Learn
ATTACH;FMTTYPE=image/png:https://forsythcreekweek.org/wp-content/uploads/2025/12/Rain-Garden-stock-photo.png
END:VEVENT
BEGIN:VEVENT
DTSTART;TZID=America/New_York:20260325T100000
DTEND;TZID=America/New_York:20260325T103000
DTSTAMP:20260423T140523
CREATED:20251210T205435Z
LAST-MODIFIED:20251210T205507Z
UID:10000047-1774432800-1774434600@forsythcreekweek.org
SUMMARY:Preschool Storytime - Water
DESCRIPTION:Join us for a water-themed storytime with Mrs. Stefanie at Paddison Memorial Branch Library. Recommended for ages 3 to 6. \n\n\n\n\n\n\n\n\n\n 
URL:https://forsythcreekweek.org/event/preschool-storytime-paddison/
LOCATION:Paddison Memorial Branch Library\, 248 Harmon Ln.\, Kernersville\, NC\, 27284
CATEGORIES:Listen & Learn
ATTACH;FMTTYPE=image/png:https://forsythcreekweek.org/wp-content/uploads/2025/12/Storytime-FCW1-7-scaled.png
END:VEVENT
END:VCALENDAR