BEGIN:VCALENDAR
VERSION:2.0
PRODID:-//Forsyth Creek Week - ECPv6.15.20//NONSGML v1.0//EN
CALSCALE:GREGORIAN
METHOD:PUBLISH
X-ORIGINAL-URL:https://forsythcreekweek.org
X-WR-CALDESC:Events for Forsyth Creek Week
REFRESH-INTERVAL;VALUE=DURATION:PT1H
X-Robots-Tag:noindex
X-PUBLISHED-TTL:PT1H
BEGIN:VTIMEZONE
TZID:America/New_York
BEGIN:DAYLIGHT
TZOFFSETFROM:-0500
TZOFFSETTO:-0400
TZNAME:EDT
DTSTART:20250309T070000
END:DAYLIGHT
BEGIN:STANDARD
TZOFFSETFROM:-0400
TZOFFSETTO:-0500
TZNAME:EST
DTSTART:20251102T060000
END:STANDARD
BEGIN:DAYLIGHT
TZOFFSETFROM:-0500
TZOFFSETTO:-0400
TZNAME:EDT
DTSTART:20260308T070000
END:DAYLIGHT
BEGIN:STANDARD
TZOFFSETFROM:-0400
TZOFFSETTO:-0500
TZNAME:EST
DTSTART:20261101T060000
END:STANDARD
BEGIN:DAYLIGHT
TZOFFSETFROM:-0500
TZOFFSETTO:-0400
TZNAME:EDT
DTSTART:20270314T070000
END:DAYLIGHT
BEGIN:STANDARD
TZOFFSETFROM:-0400
TZOFFSETTO:-0500
TZNAME:EST
DTSTART:20271107T060000
END:STANDARD
END:VTIMEZONE
BEGIN:VEVENT
DTSTART;TZID=America/New_York:20260321T090000
DTEND;TZID=America/New_York:20260321T120000
DTSTAMP:20260423T134738
CREATED:20260304T150149Z
LAST-MODIFIED:20260304T150203Z
UID:10000115-1774083600-1774094400@forsythcreekweek.org
SUMMARY:Spring Clean Sweep
DESCRIPTION:Join us for the 2026 Spring Clean Sweep! Be involved and help keep our community clean 🛣️ \n\nNo registration needed! Just show up the morning of the clean sweep.\nVolunteers under the age of 18 must have adult supervision.\nAll participants must have a signed waiver (available the morning of)\n\nSafety vests\, gloves\, trash bags\, pick-up sticks\, and bottled water will be provided to volunteers. 💚 This clean sweep is sponsored by the Lewisville Beautification Committee and the Town of Lewisville. \n\n\n\n\n\n\n\n\n\n 
URL:https://forsythcreekweek.org/event/spring-clean-sweep/
LOCATION:Town of Lewisville Annex\, 6550 Shallowford Road\, Lewisville\, 28023
CATEGORIES:Fix the Planet
ATTACH;FMTTYPE=image/jpeg:https://forsythcreekweek.org/wp-content/uploads/2026/03/637007971_1332734555549467_4352565528759118118_n.jpg
ORGANIZER;CN="Town of Lewisville Public Works":MAILTO:publicworks@lewisvillenc.net
END:VEVENT
END:VCALENDAR